BEGIN:VCALENDAR
VERSION:2.0
PRODID:-//Admaston Bromley - ECPv6.15.20//NONSGML v1.0//EN
CALSCALE:GREGORIAN
METHOD:PUBLISH
X-WR-CALNAME:Admaston Bromley
X-ORIGINAL-URL:https://admastonbromley.com
X-WR-CALDESC:Events for Admaston Bromley
REFRESH-INTERVAL;VALUE=DURATION:PT1H
X-Robots-Tag:noindex
X-PUBLISHED-TTL:PT1H
BEGIN:VTIMEZONE
TZID:America/Toronto
BEGIN:DAYLIGHT
TZOFFSETFROM:-0500
TZOFFSETTO:-0400
TZNAME:EDT
DTSTART:20240310T070000
END:DAYLIGHT
BEGIN:STANDARD
TZOFFSETFROM:-0400
TZOFFSETTO:-0500
TZNAME:EST
DTSTART:20241103T060000
END:STANDARD
BEGIN:DAYLIGHT
TZOFFSETFROM:-0500
TZOFFSETTO:-0400
TZNAME:EDT
DTSTART:20250309T070000
END:DAYLIGHT
BEGIN:STANDARD
TZOFFSETFROM:-0400
TZOFFSETTO:-0500
TZNAME:EST
DTSTART:20251102T060000
END:STANDARD
BEGIN:DAYLIGHT
TZOFFSETFROM:-0500
TZOFFSETTO:-0400
TZNAME:EDT
DTSTART:20260308T070000
END:DAYLIGHT
BEGIN:STANDARD
TZOFFSETFROM:-0400
TZOFFSETTO:-0500
TZNAME:EST
DTSTART:20261101T060000
END:STANDARD
END:VTIMEZONE
BEGIN:VEVENT
DTSTART;TZID=America/Toronto:20251019T140000
DTEND;TZID=America/Toronto:20251019T160000
DTSTAMP:20260421T052513
CREATED:20251007T133318Z
LAST-MODIFIED:20251007T133942Z
UID:10000205-1760882400-1760889600@admastonbromley.com
SUMMARY:Bromley Historical Society - Looking Back: The Renfrew Highland Pipes and Drums w/ Melissa Friske\, Rob McKenzie and Clark Smith
DESCRIPTION: 
URL:https://admastonbromley.com/event/admaston-bromley-public-library-author-talks-with-alison-seely-2/
LOCATION:498 Micksburg Rd\, 498 Micksburg Rd\, Osceola\, Canada
END:VEVENT
BEGIN:VEVENT
DTSTART;TZID=America/Toronto:20250817T140000
DTEND;TZID=America/Toronto:20250817T160000
DTSTAMP:20260421T052513
CREATED:20230919T174054Z
LAST-MODIFIED:20250805T190009Z
UID:10000103-1755439200-1755446400@admastonbromley.com
SUMMARY:Bromley Historical Society - Upcoming Talks
DESCRIPTION:
URL:https://admastonbromley.com/event/bromley-historical-society-upcoming-talks/
LOCATION:498 Micksburg Rd\, 498 Micksburg Rd\, Osceola\, Canada
END:VEVENT
END:VCALENDAR