BEGIN:VCALENDAR
VERSION:2.0
PRODID:-//Admaston Bromley - ECPv6.15.20//NONSGML v1.0//EN
CALSCALE:GREGORIAN
METHOD:PUBLISH
X-ORIGINAL-URL:https://admastonbromley.com
X-WR-CALDESC:Events for Admaston Bromley
REFRESH-INTERVAL;VALUE=DURATION:PT1H
X-Robots-Tag:noindex
X-PUBLISHED-TTL:PT1H
BEGIN:VTIMEZONE
TZID:America/Toronto
BEGIN:DAYLIGHT
TZOFFSETFROM:-0500
TZOFFSETTO:-0400
TZNAME:EDT
DTSTART:20240310T070000
END:DAYLIGHT
BEGIN:STANDARD
TZOFFSETFROM:-0400
TZOFFSETTO:-0500
TZNAME:EST
DTSTART:20241103T060000
END:STANDARD
BEGIN:DAYLIGHT
TZOFFSETFROM:-0500
TZOFFSETTO:-0400
TZNAME:EDT
DTSTART:20250309T070000
END:DAYLIGHT
BEGIN:STANDARD
TZOFFSETFROM:-0400
TZOFFSETTO:-0500
TZNAME:EST
DTSTART:20251102T060000
END:STANDARD
BEGIN:DAYLIGHT
TZOFFSETFROM:-0500
TZOFFSETTO:-0400
TZNAME:EDT
DTSTART:20260308T070000
END:DAYLIGHT
BEGIN:STANDARD
TZOFFSETFROM:-0400
TZOFFSETTO:-0500
TZNAME:EST
DTSTART:20261101T060000
END:STANDARD
BEGIN:DAYLIGHT
TZOFFSETFROM:-0500
TZOFFSETTO:-0400
TZNAME:EDT
DTSTART:20270314T070000
END:DAYLIGHT
BEGIN:STANDARD
TZOFFSETFROM:-0400
TZOFFSETTO:-0500
TZNAME:EST
DTSTART:20271107T060000
END:STANDARD
END:VTIMEZONE
BEGIN:VEVENT
DTSTART;TZID=America/Toronto:20260414T190000
DTEND;TZID=America/Toronto:20260414T210000
DTSTAMP:20260421T232452
CREATED:20260323T145719Z
LAST-MODIFIED:20260323T145719Z
UID:10000276-1776193200-1776200400@admastonbromley.com
SUMMARY:Library Board Committee Meeting
DESCRIPTION:Committee Agendas & Minutes
URL:https://admastonbromley.com/event/library-board-committee-meeting-8/
LOCATION:Admaston Bromley Public Library\, 5346 ON-60\, Douglas\, ON\, K0J 1S0\, Canada
CATEGORIES:Municipal
ORGANIZER;CN="Admaston Bromley Public Library":MAILTO:info@admastonbromleylibrary.com
END:VEVENT
BEGIN:VEVENT
DTSTART;TZID=America/Toronto:20260310T190000
DTEND;TZID=America/Toronto:20260310T210000
DTSTAMP:20260421T232452
CREATED:20260323T145653Z
LAST-MODIFIED:20260323T145653Z
UID:10000275-1773169200-1773176400@admastonbromley.com
SUMMARY:Library Board Committee Meeting
DESCRIPTION:Committee Agendas & Minutes
URL:https://admastonbromley.com/event/library-board-committee-meeting-7/
LOCATION:Admaston Bromley Public Library\, 5346 ON-60\, Douglas\, ON\, K0J 1S0\, Canada
CATEGORIES:Municipal
ORGANIZER;CN="Admaston Bromley Public Library":MAILTO:info@admastonbromleylibrary.com
END:VEVENT
BEGIN:VEVENT
DTSTART;TZID=America/Toronto:20260227T193000
DTEND;TZID=America/Toronto:20260227T213000
DTSTAMP:20260421T232452
CREATED:20260119T151803Z
LAST-MODIFIED:20260119T151852Z
UID:10000247-1772220600-1772227800@admastonbromley.com
SUMMARY:Euchre Library Fundraiser
DESCRIPTION:
URL:https://admastonbromley.com/event/6254/
LOCATION:1203 Rice Line\, 1203 Rice Line\, Douglas\, Ontario\, K0J1S0\, Canada
ORGANIZER;CN="Admaston Bromley Public Library":MAILTO:info@admastonbromleylibrary.com
END:VEVENT
BEGIN:VEVENT
DTSTART;TZID=America/Toronto:20260210T190000
DTEND;TZID=America/Toronto:20260210T210000
DTSTAMP:20260421T232452
CREATED:20260323T145612Z
LAST-MODIFIED:20260323T145612Z
UID:10000274-1770750000-1770757200@admastonbromley.com
SUMMARY:Library Board Committee Meeting
DESCRIPTION:Committee Agendas & Minutes
URL:https://admastonbromley.com/event/library-board-committee-meeting-6/
LOCATION:Admaston Bromley Public Library\, 5346 ON-60\, Douglas\, ON\, K0J 1S0\, Canada
CATEGORIES:Municipal
ORGANIZER;CN="Admaston Bromley Public Library":MAILTO:info@admastonbromleylibrary.com
END:VEVENT
BEGIN:VEVENT
DTSTART;TZID=America/Toronto:20260113T190000
DTEND;TZID=America/Toronto:20260113T210000
DTSTAMP:20260421T232452
CREATED:20260323T145535Z
LAST-MODIFIED:20260323T145535Z
UID:10000273-1768330800-1768338000@admastonbromley.com
SUMMARY:Library Board Committee Meeting
DESCRIPTION:Committee Agendas & Minutes
URL:https://admastonbromley.com/event/library-board-committee-meeting-5/
LOCATION:Admaston Bromley Public Library\, 5346 ON-60\, Douglas\, ON\, K0J 1S0\, Canada
CATEGORIES:Municipal
ORGANIZER;CN="Admaston Bromley Public Library":MAILTO:info@admastonbromleylibrary.com
END:VEVENT
BEGIN:VEVENT
DTSTART;TZID=America/Toronto:20251209T190000
DTEND;TZID=America/Toronto:20251209T210000
DTSTAMP:20260421T232452
CREATED:20251128T204324Z
LAST-MODIFIED:20251128T204324Z
UID:10000236-1765306800-1765314000@admastonbromley.com
SUMMARY:Library Board Committee Meeting
DESCRIPTION:Committee Agendas & Minutes
URL:https://admastonbromley.com/event/library-board-committee-meeting-4/
LOCATION:Council Offices\, 477 Stone Road\, Renfrew\, Ontario\, K7V 3Z5\, Canada
CATEGORIES:Municipal
ORGANIZER;CN="Admaston Bromley Public Library":MAILTO:info@admastonbromleylibrary.com
END:VEVENT
BEGIN:VEVENT
DTSTART;TZID=America/Toronto:20251111T190000
DTEND;TZID=America/Toronto:20251111T210000
DTSTAMP:20260421T232452
CREATED:20251113T153055Z
LAST-MODIFIED:20251113T153055Z
UID:10000226-1762887600-1762894800@admastonbromley.com
SUMMARY:Library Board Committee Meeting
DESCRIPTION:Committee Agendas & Minutes
URL:https://admastonbromley.com/event/library-board-committee-meeting-3/
LOCATION:Council Offices\, 477 Stone Road\, Renfrew\, Ontario\, K7V 3Z5\, Canada
CATEGORIES:Municipal
ORGANIZER;CN="Admaston Bromley Public Library":MAILTO:info@admastonbromleylibrary.com
END:VEVENT
BEGIN:VEVENT
DTSTART;TZID=America/Toronto:20251014T190000
DTEND;TZID=America/Toronto:20251014T210000
DTSTAMP:20260421T232452
CREATED:20251006T172858Z
LAST-MODIFIED:20251006T172858Z
UID:10000204-1760468400-1760475600@admastonbromley.com
SUMMARY:Library Board Committee Meeting
DESCRIPTION:Committee Agendas & Minutes
URL:https://admastonbromley.com/event/library-board-committee-meeting-2/
LOCATION:Council Offices\, 477 Stone Road\, Renfrew\, Ontario\, K7V 3Z5\, Canada
CATEGORIES:Municipal
ORGANIZER;CN="Admaston Bromley Public Library":MAILTO:info@admastonbromleylibrary.com
END:VEVENT
BEGIN:VEVENT
DTSTART;TZID=America/Toronto:20250916T190000
DTEND;TZID=America/Toronto:20250916T210000
DTSTAMP:20260421T232452
CREATED:20250916T171036Z
LAST-MODIFIED:20250916T171036Z
UID:10000188-1758049200-1758056400@admastonbromley.com
SUMMARY:Library Board Committee Meeting
DESCRIPTION:Committee Agendas & Minutes
URL:https://admastonbromley.com/event/library-board-committee-meeting/
LOCATION:Council Offices\, 477 Stone Road\, Renfrew\, Ontario\, K7V 3Z5\, Canada
CATEGORIES:Municipal
ORGANIZER;CN="Admaston Bromley Public Library":MAILTO:info@admastonbromleylibrary.com
END:VEVENT
END:VCALENDAR