BEGIN:VCALENDAR
VERSION:2.0
PRODID:-//Admaston Bromley - ECPv6.15.20//NONSGML v1.0//EN
CALSCALE:GREGORIAN
METHOD:PUBLISH
X-WR-CALNAME:Admaston Bromley
X-ORIGINAL-URL:https://admastonbromley.com
X-WR-CALDESC:Events for Admaston Bromley
REFRESH-INTERVAL;VALUE=DURATION:PT1H
X-Robots-Tag:noindex
X-PUBLISHED-TTL:PT1H
BEGIN:VTIMEZONE
TZID:America/Toronto
BEGIN:DAYLIGHT
TZOFFSETFROM:-0500
TZOFFSETTO:-0400
TZNAME:EDT
DTSTART:20250309T070000
END:DAYLIGHT
BEGIN:STANDARD
TZOFFSETFROM:-0400
TZOFFSETTO:-0500
TZNAME:EST
DTSTART:20251102T060000
END:STANDARD
BEGIN:DAYLIGHT
TZOFFSETFROM:-0500
TZOFFSETTO:-0400
TZNAME:EDT
DTSTART:20260308T070000
END:DAYLIGHT
BEGIN:STANDARD
TZOFFSETFROM:-0400
TZOFFSETTO:-0500
TZNAME:EST
DTSTART:20261101T060000
END:STANDARD
BEGIN:DAYLIGHT
TZOFFSETFROM:-0500
TZOFFSETTO:-0400
TZNAME:EDT
DTSTART:20270314T070000
END:DAYLIGHT
BEGIN:STANDARD
TZOFFSETFROM:-0400
TZOFFSETTO:-0500
TZNAME:EST
DTSTART:20271107T060000
END:STANDARD
BEGIN:DAYLIGHT
TZOFFSETFROM:-0500
TZOFFSETTO:-0400
TZNAME:EDT
DTSTART:20280312T070000
END:DAYLIGHT
BEGIN:STANDARD
TZOFFSETFROM:-0400
TZOFFSETTO:-0500
TZNAME:EST
DTSTART:20281105T060000
END:STANDARD
BEGIN:DAYLIGHT
TZOFFSETFROM:-0500
TZOFFSETTO:-0400
TZNAME:EDT
DTSTART:20290311T070000
END:DAYLIGHT
BEGIN:STANDARD
TZOFFSETFROM:-0400
TZOFFSETTO:-0500
TZNAME:EST
DTSTART:20291104T060000
END:STANDARD
BEGIN:DAYLIGHT
TZOFFSETFROM:-0500
TZOFFSETTO:-0400
TZNAME:EDT
DTSTART:20300310T070000
END:DAYLIGHT
BEGIN:STANDARD
TZOFFSETFROM:-0400
TZOFFSETTO:-0500
TZNAME:EST
DTSTART:20301103T060000
END:STANDARD
BEGIN:DAYLIGHT
TZOFFSETFROM:-0500
TZOFFSETTO:-0400
TZNAME:EDT
DTSTART:20310309T070000
END:DAYLIGHT
BEGIN:STANDARD
TZOFFSETFROM:-0400
TZOFFSETTO:-0500
TZNAME:EST
DTSTART:20311102T060000
END:STANDARD
END:VTIMEZONE
BEGIN:VEVENT
DTSTART;VALUE=DATE:20260422
DTEND;VALUE=DATE:20260423
DTSTAMP:20260422T125613
CREATED:20260422T133622Z
LAST-MODIFIED:20260422T133922Z
UID:10000288-1776816000-1776902399@admastonbromley.com
SUMMARY:Administrative Professional Day
DESCRIPTION:
URL:https://admastonbromley.com/event/administrative-professional-day/2026-04-22/
END:VEVENT
BEGIN:VEVENT
DTSTART;VALUE=DATE:20270428
DTEND;VALUE=DATE:20270429
DTSTAMP:20260422T125613
CREATED:20260422T133622Z
LAST-MODIFIED:20260422T133922Z
UID:10000290-1808870400-1808956799@admastonbromley.com
SUMMARY:Administrative Professional Day
DESCRIPTION:
URL:https://admastonbromley.com/event/administrative-professional-day/2027-04-28/
END:VEVENT
BEGIN:VEVENT
DTSTART;VALUE=DATE:20280426
DTEND;VALUE=DATE:20280427
DTSTAMP:20260422T125613
CREATED:20260422T133622Z
LAST-MODIFIED:20260422T133922Z
UID:10000291-1840320000-1840406399@admastonbromley.com
SUMMARY:Administrative Professional Day
DESCRIPTION:
URL:https://admastonbromley.com/event/administrative-professional-day/2028-04-26/
END:VEVENT
BEGIN:VEVENT
DTSTART;VALUE=DATE:20290425
DTEND;VALUE=DATE:20290426
DTSTAMP:20260422T125613
CREATED:20260422T133622Z
LAST-MODIFIED:20260422T133922Z
UID:10000292-1871769600-1871855999@admastonbromley.com
SUMMARY:Administrative Professional Day
DESCRIPTION:
URL:https://admastonbromley.com/event/administrative-professional-day/2029-04-25/
END:VEVENT
BEGIN:VEVENT
DTSTART;VALUE=DATE:20300424
DTEND;VALUE=DATE:20300425
DTSTAMP:20260422T125613
CREATED:20260422T133622Z
LAST-MODIFIED:20260422T133922Z
UID:10000293-1903219200-1903305599@admastonbromley.com
SUMMARY:Administrative Professional Day
DESCRIPTION:
URL:https://admastonbromley.com/event/administrative-professional-day/2030-04-24/
END:VEVENT
END:VCALENDAR