BEGIN:VCALENDAR
VERSION:2.0
PRODID:-//Admaston Bromley - ECPv6.15.20//NONSGML v1.0//EN
CALSCALE:GREGORIAN
METHOD:PUBLISH
X-ORIGINAL-URL:https://admastonbromley.com
X-WR-CALDESC:Events for Admaston Bromley
REFRESH-INTERVAL;VALUE=DURATION:PT1H
X-Robots-Tag:noindex
X-PUBLISHED-TTL:PT1H
BEGIN:VTIMEZONE
TZID:America/Toronto
BEGIN:DAYLIGHT
TZOFFSETFROM:-0500
TZOFFSETTO:-0400
TZNAME:EDT
DTSTART:20260308T070000
END:DAYLIGHT
BEGIN:STANDARD
TZOFFSETFROM:-0400
TZOFFSETTO:-0500
TZNAME:EST
DTSTART:20261101T060000
END:STANDARD
BEGIN:DAYLIGHT
TZOFFSETFROM:-0500
TZOFFSETTO:-0400
TZNAME:EDT
DTSTART:20270314T070000
END:DAYLIGHT
BEGIN:STANDARD
TZOFFSETFROM:-0400
TZOFFSETTO:-0500
TZNAME:EST
DTSTART:20271107T060000
END:STANDARD
BEGIN:DAYLIGHT
TZOFFSETFROM:-0500
TZOFFSETTO:-0400
TZNAME:EDT
DTSTART:20280312T070000
END:DAYLIGHT
BEGIN:STANDARD
TZOFFSETFROM:-0400
TZOFFSETTO:-0500
TZNAME:EST
DTSTART:20281105T060000
END:STANDARD
BEGIN:DAYLIGHT
TZOFFSETFROM:-0500
TZOFFSETTO:-0400
TZNAME:EDT
DTSTART:20290311T070000
END:DAYLIGHT
BEGIN:STANDARD
TZOFFSETFROM:-0400
TZOFFSETTO:-0500
TZNAME:EST
DTSTART:20291104T060000
END:STANDARD
BEGIN:DAYLIGHT
TZOFFSETFROM:-0500
TZOFFSETTO:-0400
TZNAME:EDT
DTSTART:20300310T070000
END:DAYLIGHT
BEGIN:STANDARD
TZOFFSETFROM:-0400
TZOFFSETTO:-0500
TZNAME:EST
DTSTART:20301103T060000
END:STANDARD
END:VTIMEZONE
BEGIN:VEVENT
DTSTART;VALUE=DATE:20270928
DTEND;VALUE=DATE:20270929
DTSTAMP:20260421T124425
CREATED:20250924T143301Z
LAST-MODIFIED:20250924T164720Z
UID:10000201-1822089600-1822175999@admastonbromley.com
SUMMARY:Test Your Smoke Alarm Day
DESCRIPTION:Fire Chief McHale is calling on all residents of Admaston Bromley to test their smoke alarms on Sunday\, September 28\, 2025\, as part of Test Your Smoke Alarm Day.Be prepared to be “Saved by the Beep” with working smoke alarms – it is your best chance to keep you and your family safe in the event of a fire.The Township of Admaston Bromley is joining communities across Ontario on September 28 by asking everyone to take a minute to ensure that there are working smoke alarms installed in their home
URL:https://admastonbromley.com/event/test-your-smoke-alarm-day/2027-09-28/
END:VEVENT
BEGIN:VEVENT
DTSTART;VALUE=DATE:20270930
DTEND;VALUE=DATE:20271001
DTSTAMP:20260421T124425
CREATED:20250924T160001Z
LAST-MODIFIED:20250924T160001Z
UID:10000195-1822262400-1822348799@admastonbromley.com
SUMMARY:National Day for Truth and Reconciliation
DESCRIPTION:The Township recognizes Tuesday September 30th as the National Day for Truth and Reconciliation.\n\n\n\nOur office will remain open for regular business hours.
URL:https://admastonbromley.com/event/national-day-for-truth-and-reconciliation/2027-09-30/
END:VEVENT
BEGIN:VEVENT
DTSTART;VALUE=DATE:20280928
DTEND;VALUE=DATE:20280929
DTSTAMP:20260421T124425
CREATED:20250924T143301Z
LAST-MODIFIED:20250924T164720Z
UID:10000202-1853712000-1853798399@admastonbromley.com
SUMMARY:Test Your Smoke Alarm Day
DESCRIPTION:Fire Chief McHale is calling on all residents of Admaston Bromley to test their smoke alarms on Sunday\, September 28\, 2025\, as part of Test Your Smoke Alarm Day.Be prepared to be “Saved by the Beep” with working smoke alarms – it is your best chance to keep you and your family safe in the event of a fire.The Township of Admaston Bromley is joining communities across Ontario on September 28 by asking everyone to take a minute to ensure that there are working smoke alarms installed in their home
URL:https://admastonbromley.com/event/test-your-smoke-alarm-day/2028-09-28/
END:VEVENT
BEGIN:VEVENT
DTSTART;VALUE=DATE:20280930
DTEND;VALUE=DATE:20281001
DTSTAMP:20260421T124425
CREATED:20250924T160001Z
LAST-MODIFIED:20250924T160001Z
UID:10000196-1853884800-1853971199@admastonbromley.com
SUMMARY:National Day for Truth and Reconciliation
DESCRIPTION:The Township recognizes Tuesday September 30th as the National Day for Truth and Reconciliation.\n\n\n\nOur office will remain open for regular business hours.
URL:https://admastonbromley.com/event/national-day-for-truth-and-reconciliation/2028-09-30/
END:VEVENT
BEGIN:VEVENT
DTSTART;VALUE=DATE:20290928
DTEND;VALUE=DATE:20290929
DTSTAMP:20260421T124425
CREATED:20250924T143301Z
LAST-MODIFIED:20250924T164720Z
UID:10000203-1885248000-1885334399@admastonbromley.com
SUMMARY:Test Your Smoke Alarm Day
DESCRIPTION:Fire Chief McHale is calling on all residents of Admaston Bromley to test their smoke alarms on Sunday\, September 28\, 2025\, as part of Test Your Smoke Alarm Day.Be prepared to be “Saved by the Beep” with working smoke alarms – it is your best chance to keep you and your family safe in the event of a fire.The Township of Admaston Bromley is joining communities across Ontario on September 28 by asking everyone to take a minute to ensure that there are working smoke alarms installed in their home
URL:https://admastonbromley.com/event/test-your-smoke-alarm-day/2029-09-28/
END:VEVENT
BEGIN:VEVENT
DTSTART;VALUE=DATE:20290930
DTEND;VALUE=DATE:20291001
DTSTAMP:20260421T124425
CREATED:20250924T160001Z
LAST-MODIFIED:20250924T160001Z
UID:10000197-1885420800-1885507199@admastonbromley.com
SUMMARY:National Day for Truth and Reconciliation
DESCRIPTION:The Township recognizes Tuesday September 30th as the National Day for Truth and Reconciliation.\n\n\n\nOur office will remain open for regular business hours.
URL:https://admastonbromley.com/event/national-day-for-truth-and-reconciliation/2029-09-30/
END:VEVENT
END:VCALENDAR