BEGIN:VCALENDAR
VERSION:2.0
PRODID:-//Admaston Bromley - ECPv6.15.20//NONSGML v1.0//EN
CALSCALE:GREGORIAN
METHOD:PUBLISH
X-WR-CALNAME:Admaston Bromley
X-ORIGINAL-URL:https://admastonbromley.com
X-WR-CALDESC:Events for Admaston Bromley
REFRESH-INTERVAL;VALUE=DURATION:PT1H
X-Robots-Tag:noindex
X-PUBLISHED-TTL:PT1H
BEGIN:VTIMEZONE
TZID:America/Toronto
BEGIN:DAYLIGHT
TZOFFSETFROM:-0500
TZOFFSETTO:-0400
TZNAME:EDT
DTSTART:20250309T070000
END:DAYLIGHT
BEGIN:STANDARD
TZOFFSETFROM:-0400
TZOFFSETTO:-0500
TZNAME:EST
DTSTART:20251102T060000
END:STANDARD
BEGIN:DAYLIGHT
TZOFFSETFROM:-0500
TZOFFSETTO:-0400
TZNAME:EDT
DTSTART:20260308T070000
END:DAYLIGHT
BEGIN:STANDARD
TZOFFSETFROM:-0400
TZOFFSETTO:-0500
TZNAME:EST
DTSTART:20261101T060000
END:STANDARD
BEGIN:DAYLIGHT
TZOFFSETFROM:-0500
TZOFFSETTO:-0400
TZNAME:EDT
DTSTART:20270314T070000
END:DAYLIGHT
BEGIN:STANDARD
TZOFFSETFROM:-0400
TZOFFSETTO:-0500
TZNAME:EST
DTSTART:20271107T060000
END:STANDARD
BEGIN:DAYLIGHT
TZOFFSETFROM:-0500
TZOFFSETTO:-0400
TZNAME:EDT
DTSTART:20280312T070000
END:DAYLIGHT
BEGIN:STANDARD
TZOFFSETFROM:-0400
TZOFFSETTO:-0500
TZNAME:EST
DTSTART:20281105T060000
END:STANDARD
BEGIN:DAYLIGHT
TZOFFSETFROM:-0500
TZOFFSETTO:-0400
TZNAME:EDT
DTSTART:20290311T070000
END:DAYLIGHT
BEGIN:STANDARD
TZOFFSETFROM:-0400
TZOFFSETTO:-0500
TZNAME:EST
DTSTART:20291104T060000
END:STANDARD
BEGIN:DAYLIGHT
TZOFFSETFROM:-0500
TZOFFSETTO:-0400
TZNAME:EDT
DTSTART:20300310T070000
END:DAYLIGHT
BEGIN:STANDARD
TZOFFSETFROM:-0400
TZOFFSETTO:-0500
TZNAME:EST
DTSTART:20301103T060000
END:STANDARD
END:VTIMEZONE
BEGIN:VEVENT
DTSTART;TZID=America/Toronto:20260408T163000
DTEND;TZID=America/Toronto:20260408T173000
DTSTAMP:20260421T213421
CREATED:20260402T123409Z
LAST-MODIFIED:20260402T123409Z
UID:10000280-1775665800-1775669400@admastonbromley.com
SUMMARY:South Ottawa Valley OPP Detachment Board Meeting
DESCRIPTION:Committee Agendas & Minutes \n \nSouth Ottawa Valley O.P.P Detachment Board  \n8 April\, 2026 \n4:30 PM \nOPP Detachment Board Room \n410 O’Brien Rd\, Renfrew \n 
URL:https://admastonbromley.com/event/south-ottawa-valley-opp-detachment-board-meeting-6/
LOCATION:410 O’Brien Rd\, Renfrew\, 410 O'Brien Road\, Renfrew\, Ontario\, K7V 3Z2\, Canada
CATEGORIES:Municipal
END:VEVENT
BEGIN:VEVENT
DTSTART;TZID=America/Toronto:20260414T190000
DTEND;TZID=America/Toronto:20260414T210000
DTSTAMP:20260421T213421
CREATED:20260323T145719Z
LAST-MODIFIED:20260323T145719Z
UID:10000276-1776193200-1776200400@admastonbromley.com
SUMMARY:Library Board Committee Meeting
DESCRIPTION:Committee Agendas & Minutes
URL:https://admastonbromley.com/event/library-board-committee-meeting-8/
LOCATION:Admaston Bromley Public Library\, 5346 ON-60\, Douglas\, ON\, K0J 1S0\, Canada
CATEGORIES:Municipal
ORGANIZER;CN="Admaston Bromley Public Library":MAILTO:info@admastonbromleylibrary.com
END:VEVENT
BEGIN:VEVENT
DTSTART;VALUE=DATE:20260417
DTEND;VALUE=DATE:20260418
DTSTAMP:20260421T213421
CREATED:20260217T182700Z
LAST-MODIFIED:20260407T180537Z
UID:10000254-1776384000-1776470399@admastonbromley.com
SUMMARY:"Fundraiser Fridays" Spring Fling - Douglas Recreation Committee
DESCRIPTION:
URL:https://admastonbromley.com/event/fundraiser-fridays-spring-fling-douglas-recreation-committee/
LOCATION:Douglas Recreation – 5346 Highway 60\, 5346 Highway 60\, Douglas\, Ontario\, Canada
END:VEVENT
BEGIN:VEVENT
DTSTART;TZID=America/Toronto:20260423T140000
DTEND;TZID=America/Toronto:20260423T163000
DTSTAMP:20260421T213421
CREATED:20260224T175119Z
LAST-MODIFIED:20260224T175119Z
UID:10000264-1776952800-1776961800@admastonbromley.com
SUMMARY:Interested in Running For Council Session
DESCRIPTION:
URL:https://admastonbromley.com/event/interested-in-running-for-council-session/
LOCATION:Eganville Arena\, 178 Jane Street\, Eganville\, Ontario\, Canada
END:VEVENT
BEGIN:VEVENT
DTSTART;TZID=America/Toronto:20260423T190000
DTEND;TZID=America/Toronto:20260423T213000
DTSTAMP:20260421T213422
CREATED:20260224T175242Z
LAST-MODIFIED:20260224T175242Z
UID:10000265-1776970800-1776979800@admastonbromley.com
SUMMARY:Interested in Running For Council Session
DESCRIPTION:
URL:https://admastonbromley.com/event/interested-in-running-for-council-session-2/
LOCATION:Murray Yantha Community Centre\, 2473 Russett Drive\, Arnprior\, Ontario\, Canada
END:VEVENT
BEGIN:VEVENT
DTSTART;TZID=America/Toronto:20260424T140000
DTEND;TZID=America/Toronto:20260424T163000
DTSTAMP:20260421T213422
CREATED:20260224T175338Z
LAST-MODIFIED:20260224T175403Z
UID:10000266-1777039200-1777048200@admastonbromley.com
SUMMARY:Interested in Running For Council Session
DESCRIPTION:
URL:https://admastonbromley.com/event/interested-in-running-for-council-session-3/
LOCATION:Petawawa Civic Centre\, 15 Civic Centre Rd.\, Petawawa\, Ontario\, Canada
END:VEVENT
BEGIN:VEVENT
DTSTART;TZID=America/Toronto:20260424T140000
DTEND;TZID=America/Toronto:20260424T163000
DTSTAMP:20260421T213422
CREATED:20260224T175654Z
LAST-MODIFIED:20260224T175654Z
UID:10000267-1777039200-1777048200@admastonbromley.com
SUMMARY:Interested in Running For Council Session
DESCRIPTION:
URL:https://admastonbromley.com/event/interested-in-running-for-council-session-4/
LOCATION:https://admastonbromley.com/event/interested-in-running-for-council-session-4/
END:VEVENT
BEGIN:VEVENT
DTSTART;TZID=America/Toronto:20260506T093000
DTEND;TZID=America/Toronto:20260506T150000
DTSTAMP:20260421T213422
CREATED:20260407T182356Z
LAST-MODIFIED:20260407T182356Z
UID:10000282-1778059800-1778079600@admastonbromley.com
SUMMARY:Renfrew County Planner
DESCRIPTION:A planner from County of Renfrew will be back in our office Wednesday May 6th\, from 9:30 am to 3 pm. \n\nIf you would like to speak to them regarding your planning matter (severance\, lot addition\, minor variance\, zoning by-law amendment\, etc.)\, please call the municipal office (613) 432-2885 to book your appointment!\n\n\n\n 
URL:https://admastonbromley.com/event/renfrew-county-planner-6/
LOCATION:Council Offices\, 477 Stone Road\, Renfrew\, Ontario\, K7V 3Z5\, Canada
END:VEVENT
BEGIN:VEVENT
DTSTART;VALUE=DATE:20260508
DTEND;VALUE=DATE:20260509
DTSTAMP:20260421T213422
CREATED:20260217T182751Z
LAST-MODIFIED:20260217T183723Z
UID:10000255-1778198400-1778284799@admastonbromley.com
SUMMARY:"Fundraiser Fridays" Cinco de Mayo - Douglas Recreation Committee
DESCRIPTION:
URL:https://admastonbromley.com/event/fundraiser-fridays-cinco-de-mayo-douglas-recreation-committee/
LOCATION:Douglas Recreation – 5346 Highway 60\, 5346 Highway 60\, Douglas\, Ontario\, Canada
END:VEVENT
BEGIN:VEVENT
DTSTART;VALUE=DATE:20260518
DTEND;VALUE=DATE:20260519
DTSTAMP:20260421T213422
CREATED:20260416T235904Z
LAST-MODIFIED:20260417T144633Z
UID:10000285-1779062400-1779148799@admastonbromley.com
SUMMARY:Office Closed - Victoria Day
DESCRIPTION:
URL:https://admastonbromley.com/event/office-closed-victoria-day/
LOCATION:Ontario
END:VEVENT
BEGIN:VEVENT
DTSTART;VALUE=DATE:20260519
DTEND;VALUE=DATE:20260520
DTSTAMP:20260421T213422
CREATED:20260421T130239Z
LAST-MODIFIED:20260421T130239Z
UID:10000286-1779148800-1779235199@admastonbromley.com
SUMMARY:Deadline for "Call for Nominations" - Canada Day
DESCRIPTION:
URL:https://admastonbromley.com/event/deadline-for-call-for-nominations-canada-day/
LOCATION:Ontario
END:VEVENT
BEGIN:VEVENT
DTSTART;VALUE=DATE:20260530
DTEND;VALUE=DATE:20260531
DTSTAMP:20260421T213422
CREATED:20260407T181715Z
LAST-MODIFIED:20260407T181715Z
UID:10000281-1780099200-1780185599@admastonbromley.com
SUMMARY:Northcote Community Centre - ATV and Side-by-Side poker run
DESCRIPTION:Save the date\n\n\n\nATV and Side-by-Side poker run\n\n\n\n Saturday\, May 30\, 2026\n\n\n\nAdditional details\, including registration information\, start time\, and map\, will be shared soon. Stay tuned for details.
URL:https://admastonbromley.com/event/northcote-community-centre-atv-and-side-by-side-poker-run/
LOCATION:Northcote Community Centre\, 404 Northcote Rink Road\, Renfrew\, Ontario\, K7V3Z6\, Canada
END:VEVENT
BEGIN:VEVENT
DTSTART;VALUE=DATE:20260601
DTEND;VALUE=DATE:20260602
DTSTAMP:20260421T213422
CREATED:20250806T144215Z
LAST-MODIFIED:20250806T144215Z
UID:10000174-1780272000-1780358399@admastonbromley.com
SUMMARY:Waste Disposal Summer Hours Begin
DESCRIPTION:Waste Disposal Site Summer Hours\nJune 1\, 2026 to August 31\, 2026\nOsceola Landfill – 144 Pit Road\, Cobden ON\nDouglas Transfer Station – 311 Fourth Chute Road\, Douglas ON\nStone Road Transfer Station – 735 Stone Road\, Renfrew ON \n\n\n\nDAY\nDouglas\nOsceola \nStone Road \n\n\nWednesday\nClosed\n12pm – 7pm\n12pm – 7pm\n\n\nSaturday\n9am – 4pm\n9am – 5pm\n9am – 5pm\n\n\nSunday\nClosed\n12pm – 6pm\nClosed
URL:https://admastonbromley.com/event/waste-disposal-summer-hours-begin-2/
LOCATION:Ontario
END:VEVENT
BEGIN:VEVENT
DTSTART;TZID=America/Toronto:20260701T110000
DTEND;TZID=America/Toronto:20260701T140000
DTSTAMP:20260421T213422
CREATED:20260421T131649Z
LAST-MODIFIED:20260421T133303Z
UID:10000287-1782903600-1782914400@admastonbromley.com
SUMMARY:25th Township of Admaston/Bromley Canada Day Celebration
DESCRIPTION:
URL:https://admastonbromley.com/event/6743/
LOCATION:Admaston Recreation Centre\, 182 Stone Rd.\, Renfrew\, Ontario\, K7V3Z5\, Canada
END:VEVENT
BEGIN:VEVENT
DTSTART;VALUE=DATE:20260822
DTEND;VALUE=DATE:20260823
DTSTAMP:20260421T213422
CREATED:20250806T170152Z
LAST-MODIFIED:20250806T170152Z
UID:10000177-1787356800-1787443199@admastonbromley.com
SUMMARY:Taste of the Valley
DESCRIPTION:
URL:https://admastonbromley.com/event/taste-of-the-valley/
LOCATION:Douglas Recreation – 5346 Highway 60\, 5346 Highway 60\, Douglas\, Ontario\, Canada
END:VEVENT
BEGIN:VEVENT
DTSTART;VALUE=DATE:20260901
DTEND;VALUE=DATE:20260902
DTSTAMP:20260421T213422
CREATED:20250806T144316Z
LAST-MODIFIED:20250806T144316Z
UID:10000175-1788220800-1788307199@admastonbromley.com
SUMMARY:Waste Disposal Winter Hours Begin
DESCRIPTION:Waste Disposal Winter Site Hours\nOsceola Landfill – 144 Pit Road\, Cobden ON\nDouglas Transfer Station – 311 Fourth Chute Road\, Douglas ON\nStone Road Transfer Station – 735 Stone Road\, Renfrew ON \nSeptember 1\, 2026 to May 31\, 2027\n\n\n\nDAY\nDouglas \nOsceola \nStone Road \n\n\nWednesday\nClosed\n9am – 4pm\n9am – 4pm\n\n\nSaturday\n10am – 4pm\n9am – 4pm\n9am – 4pm\n\n\nSunday\nClosed\n10am – 4pm\nClosed
URL:https://admastonbromley.com/event/waste-disposal-winter-hours-begin-2/
LOCATION:Ontario
END:VEVENT
BEGIN:VEVENT
DTSTART;VALUE=DATE:20260928
DTEND;VALUE=DATE:20260929
DTSTAMP:20260421T213422
CREATED:20250924T143301Z
LAST-MODIFIED:20250924T164720Z
UID:10000200-1790553600-1790639999@admastonbromley.com
SUMMARY:Test Your Smoke Alarm Day
DESCRIPTION:Fire Chief McHale is calling on all residents of Admaston Bromley to test their smoke alarms on Sunday\, September 28\, 2025\, as part of Test Your Smoke Alarm Day.Be prepared to be “Saved by the Beep” with working smoke alarms – it is your best chance to keep you and your family safe in the event of a fire.The Township of Admaston Bromley is joining communities across Ontario on September 28 by asking everyone to take a minute to ensure that there are working smoke alarms installed in their home
URL:https://admastonbromley.com/event/test-your-smoke-alarm-day/2026-09-28/
LOCATION:Ontario
END:VEVENT
BEGIN:VEVENT
DTSTART;VALUE=DATE:20260930
DTEND;VALUE=DATE:20261001
DTSTAMP:20260421T213422
CREATED:20250924T160001Z
LAST-MODIFIED:20250924T160001Z
UID:10000194-1790726400-1790812799@admastonbromley.com
SUMMARY:National Day for Truth and Reconciliation
DESCRIPTION:The Township recognizes Tuesday September 30th as the National Day for Truth and Reconciliation.\n\n\n\nOur office will remain open for regular business hours.
URL:https://admastonbromley.com/event/national-day-for-truth-and-reconciliation/2026-09-30/
LOCATION:Ontario
END:VEVENT
BEGIN:VEVENT
DTSTART;VALUE=DATE:20260930
DTEND;VALUE=DATE:20261001
DTSTAMP:20260421T213422
CREATED:20260323T144031Z
LAST-MODIFIED:20260323T144109Z
UID:10000271-1790726400-1790812799@admastonbromley.com
SUMMARY:Final Taxes Due
DESCRIPTION:
URL:https://admastonbromley.com/event/final-taxes-due-2/
LOCATION:Ontario
END:VEVENT
BEGIN:VEVENT
DTSTART;VALUE=DATE:20270928
DTEND;VALUE=DATE:20270929
DTSTAMP:20260421T213422
CREATED:20250924T143301Z
LAST-MODIFIED:20250924T164720Z
UID:10000201-1822089600-1822175999@admastonbromley.com
SUMMARY:Test Your Smoke Alarm Day
DESCRIPTION:Fire Chief McHale is calling on all residents of Admaston Bromley to test their smoke alarms on Sunday\, September 28\, 2025\, as part of Test Your Smoke Alarm Day.Be prepared to be “Saved by the Beep” with working smoke alarms – it is your best chance to keep you and your family safe in the event of a fire.The Township of Admaston Bromley is joining communities across Ontario on September 28 by asking everyone to take a minute to ensure that there are working smoke alarms installed in their home
URL:https://admastonbromley.com/event/test-your-smoke-alarm-day/2027-09-28/
LOCATION:Ontario
END:VEVENT
BEGIN:VEVENT
DTSTART;VALUE=DATE:20270930
DTEND;VALUE=DATE:20271001
DTSTAMP:20260421T213422
CREATED:20250924T160001Z
LAST-MODIFIED:20250924T160001Z
UID:10000195-1822262400-1822348799@admastonbromley.com
SUMMARY:National Day for Truth and Reconciliation
DESCRIPTION:The Township recognizes Tuesday September 30th as the National Day for Truth and Reconciliation.\n\n\n\nOur office will remain open for regular business hours.
URL:https://admastonbromley.com/event/national-day-for-truth-and-reconciliation/2027-09-30/
LOCATION:Ontario
END:VEVENT
BEGIN:VEVENT
DTSTART;VALUE=DATE:20280928
DTEND;VALUE=DATE:20280929
DTSTAMP:20260421T213422
CREATED:20250924T143301Z
LAST-MODIFIED:20250924T164720Z
UID:10000202-1853712000-1853798399@admastonbromley.com
SUMMARY:Test Your Smoke Alarm Day
DESCRIPTION:Fire Chief McHale is calling on all residents of Admaston Bromley to test their smoke alarms on Sunday\, September 28\, 2025\, as part of Test Your Smoke Alarm Day.Be prepared to be “Saved by the Beep” with working smoke alarms – it is your best chance to keep you and your family safe in the event of a fire.The Township of Admaston Bromley is joining communities across Ontario on September 28 by asking everyone to take a minute to ensure that there are working smoke alarms installed in their home
URL:https://admastonbromley.com/event/test-your-smoke-alarm-day/2028-09-28/
LOCATION:Ontario
END:VEVENT
BEGIN:VEVENT
DTSTART;VALUE=DATE:20280930
DTEND;VALUE=DATE:20281001
DTSTAMP:20260421T213422
CREATED:20250924T160001Z
LAST-MODIFIED:20250924T160001Z
UID:10000196-1853884800-1853971199@admastonbromley.com
SUMMARY:National Day for Truth and Reconciliation
DESCRIPTION:The Township recognizes Tuesday September 30th as the National Day for Truth and Reconciliation.\n\n\n\nOur office will remain open for regular business hours.
URL:https://admastonbromley.com/event/national-day-for-truth-and-reconciliation/2028-09-30/
LOCATION:Ontario
END:VEVENT
BEGIN:VEVENT
DTSTART;VALUE=DATE:20290928
DTEND;VALUE=DATE:20290929
DTSTAMP:20260421T213422
CREATED:20250924T143301Z
LAST-MODIFIED:20250924T164720Z
UID:10000203-1885248000-1885334399@admastonbromley.com
SUMMARY:Test Your Smoke Alarm Day
DESCRIPTION:Fire Chief McHale is calling on all residents of Admaston Bromley to test their smoke alarms on Sunday\, September 28\, 2025\, as part of Test Your Smoke Alarm Day.Be prepared to be “Saved by the Beep” with working smoke alarms – it is your best chance to keep you and your family safe in the event of a fire.The Township of Admaston Bromley is joining communities across Ontario on September 28 by asking everyone to take a minute to ensure that there are working smoke alarms installed in their home
URL:https://admastonbromley.com/event/test-your-smoke-alarm-day/2029-09-28/
LOCATION:Ontario
END:VEVENT
BEGIN:VEVENT
DTSTART;VALUE=DATE:20290930
DTEND;VALUE=DATE:20291001
DTSTAMP:20260421T213422
CREATED:20250924T160001Z
LAST-MODIFIED:20250924T160001Z
UID:10000197-1885420800-1885507199@admastonbromley.com
SUMMARY:National Day for Truth and Reconciliation
DESCRIPTION:The Township recognizes Tuesday September 30th as the National Day for Truth and Reconciliation.\n\n\n\nOur office will remain open for regular business hours.
URL:https://admastonbromley.com/event/national-day-for-truth-and-reconciliation/2029-09-30/
LOCATION:Ontario
END:VEVENT
END:VCALENDAR