BEGIN:VCALENDAR
VERSION:2.0
PRODID:-//Admaston Bromley - ECPv6.15.20//NONSGML v1.0//EN
CALSCALE:GREGORIAN
METHOD:PUBLISH
X-WR-CALNAME:Admaston Bromley
X-ORIGINAL-URL:https://admastonbromley.com
X-WR-CALDESC:Events for Admaston Bromley
REFRESH-INTERVAL;VALUE=DURATION:PT1H
X-Robots-Tag:noindex
X-PUBLISHED-TTL:PT1H
BEGIN:VTIMEZONE
TZID:America/Toronto
BEGIN:DAYLIGHT
TZOFFSETFROM:-0500
TZOFFSETTO:-0400
TZNAME:EDT
DTSTART:20240310T070000
END:DAYLIGHT
BEGIN:STANDARD
TZOFFSETFROM:-0400
TZOFFSETTO:-0500
TZNAME:EST
DTSTART:20241103T060000
END:STANDARD
BEGIN:DAYLIGHT
TZOFFSETFROM:-0500
TZOFFSETTO:-0400
TZNAME:EDT
DTSTART:20250309T070000
END:DAYLIGHT
BEGIN:STANDARD
TZOFFSETFROM:-0400
TZOFFSETTO:-0500
TZNAME:EST
DTSTART:20251102T060000
END:STANDARD
BEGIN:DAYLIGHT
TZOFFSETFROM:-0500
TZOFFSETTO:-0400
TZNAME:EDT
DTSTART:20260308T070000
END:DAYLIGHT
BEGIN:STANDARD
TZOFFSETFROM:-0400
TZOFFSETTO:-0500
TZNAME:EST
DTSTART:20261101T060000
END:STANDARD
BEGIN:DAYLIGHT
TZOFFSETFROM:-0500
TZOFFSETTO:-0400
TZNAME:EDT
DTSTART:20270314T070000
END:DAYLIGHT
BEGIN:STANDARD
TZOFFSETFROM:-0400
TZOFFSETTO:-0500
TZNAME:EST
DTSTART:20271107T060000
END:STANDARD
END:VTIMEZONE
BEGIN:VEVENT
DTSTART;TZID=America/Toronto:20251120T193000
DTEND;TZID=America/Toronto:20251120T213000
DTSTAMP:20260424T092523
CREATED:20251010T183315Z
LAST-MODIFIED:20251010T183315Z
UID:10000209-1763667000-1763674200@admastonbromley.com
SUMMARY:Council Meeting
DESCRIPTION:View council agendas and minutes
URL:https://admastonbromley.com/event/council-meeting-8/
LOCATION:Council Offices\, 477 Stone Road\, Renfrew\, Ontario\, K7V 3Z5\, Canada
CATEGORIES:Municipal
END:VEVENT
BEGIN:VEVENT
DTSTART;TZID=America/Toronto:20251203T163000
DTEND;TZID=America/Toronto:20251203T173000
DTSTAMP:20260424T092523
CREATED:20251113T153345Z
LAST-MODIFIED:20251113T154001Z
UID:10000229-1764779400-1764783000@admastonbromley.com
SUMMARY:South Ottawa Valley OPP Detachment Board Meeting
DESCRIPTION:Committee Agendas & Minutes \n \nSouth Ottawa Valley O.P.P Detachment Board\nChair: Rob Tripp\nWednesday December 3rd\n4:30 PM\nO.P.P. Detachment Board Room\n410 O’Brien Rd\, Renfrew
URL:https://admastonbromley.com/event/south-ottawa-valley-opp-detachment-board-meeting-3/
LOCATION:410 O’Brien Rd\, Renfrew\, 410 O'Brien Road\, Renfrew\, Ontario\, K7V 3Z2\, Canada
CATEGORIES:Municipal
END:VEVENT
BEGIN:VEVENT
DTSTART;TZID=America/Toronto:20251204T193000
DTEND;TZID=America/Toronto:20251204T213000
DTSTAMP:20260424T092523
CREATED:20251023T190022Z
LAST-MODIFIED:20251023T190022Z
UID:10000218-1764876600-1764883800@admastonbromley.com
SUMMARY:Council Meeting
DESCRIPTION:View council agendas and minutes
URL:https://admastonbromley.com/event/council-meeting-9/
LOCATION:Council Offices\, 477 Stone Road\, Renfrew\, Ontario\, K7V 3Z5\, Canada
CATEGORIES:Municipal
END:VEVENT
BEGIN:VEVENT
DTSTART;TZID=America/Toronto:20251209T190000
DTEND;TZID=America/Toronto:20251209T210000
DTSTAMP:20260424T092523
CREATED:20251128T204324Z
LAST-MODIFIED:20251128T204324Z
UID:10000236-1765306800-1765314000@admastonbromley.com
SUMMARY:Library Board Committee Meeting
DESCRIPTION:Committee Agendas & Minutes
URL:https://admastonbromley.com/event/library-board-committee-meeting-4/
LOCATION:Council Offices\, 477 Stone Road\, Renfrew\, Ontario\, K7V 3Z5\, Canada
CATEGORIES:Municipal
ORGANIZER;CN="Admaston Bromley Public Library":MAILTO:info@admastonbromleylibrary.com
END:VEVENT
BEGIN:VEVENT
DTSTART;TZID=America/Toronto:20251218T173000
DTEND;TZID=America/Toronto:20251218T180000
DTSTAMP:20260424T092523
CREATED:20251218T164505Z
LAST-MODIFIED:20251218T164505Z
UID:10000240-1766079000-1766080800@admastonbromley.com
SUMMARY:Waste Management Committee Meeting
DESCRIPTION:Committee Agendas & Minutes
URL:https://admastonbromley.com/event/waste-management-committee-meeting/
LOCATION:Council Offices\, 477 Stone Road\, Renfrew\, Ontario\, K7V 3Z5\, Canada
CATEGORIES:Municipal
END:VEVENT
BEGIN:VEVENT
DTSTART;TZID=America/Toronto:20251218T183000
DTEND;TZID=America/Toronto:20251218T191500
DTSTAMP:20260424T092523
CREATED:20251218T164541Z
LAST-MODIFIED:20251218T164541Z
UID:10000241-1766082600-1766085300@admastonbromley.com
SUMMARY:Operations Committee Meeting
DESCRIPTION:Committee Agendas & Minutes
URL:https://admastonbromley.com/event/operations-committee-meeting/
LOCATION:Council Offices\, 477 Stone Road\, Renfrew\, Ontario\, K7V 3Z5\, Canada
CATEGORIES:Municipal
END:VEVENT
BEGIN:VEVENT
DTSTART;TZID=America/Toronto:20251218T193000
DTEND;TZID=America/Toronto:20251218T213000
DTSTAMP:20260424T092523
CREATED:20251023T190038Z
LAST-MODIFIED:20251023T195230Z
UID:10000219-1766086200-1766093400@admastonbromley.com
SUMMARY:Council Meeting
DESCRIPTION:View council agendas and minutes
URL:https://admastonbromley.com/event/council-meeting-10/
LOCATION:Council Offices\, 477 Stone Road\, Renfrew\, Ontario\, K7V 3Z5\, Canada
CATEGORIES:Municipal
END:VEVENT
BEGIN:VEVENT
DTSTART;TZID=America/Toronto:20260108T193000
DTEND;TZID=America/Toronto:20260108T213000
DTSTAMP:20260424T092523
CREATED:20251128T204235Z
LAST-MODIFIED:20251201T190201Z
UID:10000234-1767900600-1767907800@admastonbromley.com
SUMMARY:Council Meeting
DESCRIPTION:View council agendas and minutes
URL:https://admastonbromley.com/event/council-meeting-11/
LOCATION:Council Offices\, 477 Stone Road\, Renfrew\, Ontario\, K7V 3Z5\, Canada
CATEGORIES:Municipal
END:VEVENT
BEGIN:VEVENT
DTSTART;TZID=America/Toronto:20260113T190000
DTEND;TZID=America/Toronto:20260113T210000
DTSTAMP:20260424T092523
CREATED:20260323T145535Z
LAST-MODIFIED:20260323T145535Z
UID:10000273-1768330800-1768338000@admastonbromley.com
SUMMARY:Library Board Committee Meeting
DESCRIPTION:Committee Agendas & Minutes
URL:https://admastonbromley.com/event/library-board-committee-meeting-5/
LOCATION:Admaston Bromley Public Library\, 5346 ON-60\, Douglas\, ON\, K0J 1S0\, Canada
CATEGORIES:Municipal
ORGANIZER;CN="Admaston Bromley Public Library":MAILTO:info@admastonbromleylibrary.com
END:VEVENT
BEGIN:VEVENT
DTSTART;TZID=America/Toronto:20260122T193000
DTEND;TZID=America/Toronto:20260122T213000
DTSTAMP:20260424T092523
CREATED:20251128T204255Z
LAST-MODIFIED:20251201T190532Z
UID:10000235-1769110200-1769117400@admastonbromley.com
SUMMARY:Council Meeting
DESCRIPTION:View council agendas and minutes
URL:https://admastonbromley.com/event/council-meeting-12/
LOCATION:Council Offices\, 477 Stone Road\, Renfrew\, Ontario\, K7V 3Z5\, Canada
CATEGORIES:Municipal
END:VEVENT
BEGIN:VEVENT
DTSTART;TZID=America/Toronto:20260204T163000
DTEND;TZID=America/Toronto:20260204T173000
DTSTAMP:20260424T092523
CREATED:20251218T165032Z
LAST-MODIFIED:20260129T133319Z
UID:10000242-1770222600-1770226200@admastonbromley.com
SUMMARY:South Ottawa Valley OPP Detachment Board Meeting
DESCRIPTION:Committee Agendas & Minutes \n \nSouth Ottawa Valley O.P.P Detachment Board\nChair: Rob Tripp\nFriday August 29\, 2025\n2:00 PM\nO.P.P. Detachment Board Room\n410 O’Brien Rd\, Renfrew
URL:https://admastonbromley.com/event/south-ottawa-valley-opp-detachment-board-meeting-4/
LOCATION:410 O’Brien Rd\, Renfrew\, 410 O'Brien Road\, Renfrew\, Ontario\, K7V 3Z2\, Canada
CATEGORIES:Municipal
END:VEVENT
BEGIN:VEVENT
DTSTART;TZID=America/Toronto:20260205T193000
DTEND;TZID=America/Toronto:20260205T213000
DTSTAMP:20260424T092523
CREATED:20251218T165119Z
LAST-MODIFIED:20251218T165119Z
UID:10000243-1770319800-1770327000@admastonbromley.com
SUMMARY:Council Meeting
DESCRIPTION:View council agendas and minutes \n 
URL:https://admastonbromley.com/event/council-meeting-13/
LOCATION:Council Offices\, 477 Stone Road\, Renfrew\, Ontario\, K7V 3Z5\, Canada
CATEGORIES:Municipal
END:VEVENT
BEGIN:VEVENT
DTSTART;TZID=America/Toronto:20260210T190000
DTEND;TZID=America/Toronto:20260210T210000
DTSTAMP:20260424T092523
CREATED:20260323T145612Z
LAST-MODIFIED:20260323T145612Z
UID:10000274-1770750000-1770757200@admastonbromley.com
SUMMARY:Library Board Committee Meeting
DESCRIPTION:Committee Agendas & Minutes
URL:https://admastonbromley.com/event/library-board-committee-meeting-6/
LOCATION:Admaston Bromley Public Library\, 5346 ON-60\, Douglas\, ON\, K0J 1S0\, Canada
CATEGORIES:Municipal
ORGANIZER;CN="Admaston Bromley Public Library":MAILTO:info@admastonbromleylibrary.com
END:VEVENT
BEGIN:VEVENT
DTSTART;TZID=America/Toronto:20260219T193000
DTEND;TZID=America/Toronto:20260219T213000
DTSTAMP:20260424T092523
CREATED:20251218T165142Z
LAST-MODIFIED:20251218T165142Z
UID:10000244-1771529400-1771536600@admastonbromley.com
SUMMARY:Council Meeting
DESCRIPTION:View council agendas and minutes \n 
URL:https://admastonbromley.com/event/council-meeting-14/
LOCATION:Council Offices\, 477 Stone Road\, Renfrew\, Ontario\, K7V 3Z5\, Canada
CATEGORIES:Municipal
END:VEVENT
BEGIN:VEVENT
DTSTART;TZID=America/Toronto:20260305T180000
DTEND;TZID=America/Toronto:20260305T191500
DTSTAMP:20260424T092523
CREATED:20260202T200842Z
LAST-MODIFIED:20260202T201755Z
UID:10000246-1772733600-1772738100@admastonbromley.com
SUMMARY:Public Meeting - Township Zoning By-Law
DESCRIPTION:Proposed Comprehensive Zoning By-Law Review\n\n\n\n\n\n\n\n\n\n\nA formal Public Council meeting will be held on Thursday March 5\, 2026 at 6:00 pm. with a presentation by County of Renfrew Planning staff. \nThe public will be provided an opportunity to provide oral comments to the Township.  This is not a Question and Answer session\, please attend the Open House to ask questions of Planning staff.  Please let Township staff know of your wish to attend the Public Meeting to ensure that there is sufficient seating in Council Chambers. \nThose who wish to attend the Public Meeting virtually are welcome\, please click on the zoom link to attend (link will open at time of meeting):  Public Meeting Zoom Link \nPlanning & Development
URL:https://admastonbromley.com/event/public-meeting-township-zoning-by-law/
LOCATION:Council Offices\, 477 Stone Road\, Renfrew\, Ontario\, K7V 3Z5\, Canada
CATEGORIES:Municipal
END:VEVENT
BEGIN:VEVENT
DTSTART;TZID=America/Toronto:20260305T193000
DTEND;TZID=America/Toronto:20260305T213000
DTSTAMP:20260424T092523
CREATED:20260202T201821Z
LAST-MODIFIED:20260202T201821Z
UID:10000251-1772739000-1772746200@admastonbromley.com
SUMMARY:Council Meeting
DESCRIPTION:View council agendas and minutes \n 
URL:https://admastonbromley.com/event/council-meeting-16/
LOCATION:Council Offices\, 477 Stone Road\, Renfrew\, Ontario\, K7V 3Z5\, Canada
CATEGORIES:Municipal
END:VEVENT
BEGIN:VEVENT
DTSTART;TZID=America/Toronto:20260310T190000
DTEND;TZID=America/Toronto:20260310T210000
DTSTAMP:20260424T092523
CREATED:20260323T145653Z
LAST-MODIFIED:20260323T145653Z
UID:10000275-1773169200-1773176400@admastonbromley.com
SUMMARY:Library Board Committee Meeting
DESCRIPTION:Committee Agendas & Minutes
URL:https://admastonbromley.com/event/library-board-committee-meeting-7/
LOCATION:Admaston Bromley Public Library\, 5346 ON-60\, Douglas\, ON\, K0J 1S0\, Canada
CATEGORIES:Municipal
ORGANIZER;CN="Admaston Bromley Public Library":MAILTO:info@admastonbromleylibrary.com
END:VEVENT
BEGIN:VEVENT
DTSTART;TZID=America/Toronto:20260311T163000
DTEND;TZID=America/Toronto:20260311T173000
DTSTAMP:20260424T092523
CREATED:20260306T203355Z
LAST-MODIFIED:20260311T144142Z
UID:10000268-1773246600-1773250200@admastonbromley.com
SUMMARY:CANCELLED - South Ottawa Valley OPP Detachment Board Meeting
DESCRIPTION:Committee Agendas & Minutes \n \nSouth Ottawa Valley O.P.P Detachment Board\n4:30 PM\nO.P.P. Detachment Board Room\n410 O’Brien Rd\, Renfrew
URL:https://admastonbromley.com/event/south-ottawa-valley-opp-detachment-board-meeting-5/
LOCATION:410 O’Brien Rd\, Renfrew\, 410 O'Brien Road\, Renfrew\, Ontario\, K7V 3Z2\, Canada
CATEGORIES:Municipal
END:VEVENT
BEGIN:VEVENT
DTSTART;TZID=America/Toronto:20260319T193000
DTEND;TZID=America/Toronto:20260319T213000
DTSTAMP:20260424T092523
CREATED:20260202T200908Z
LAST-MODIFIED:20260202T200908Z
UID:10000250-1773948600-1773955800@admastonbromley.com
SUMMARY:Council Meeting
DESCRIPTION:View council agendas and minutes \n 
URL:https://admastonbromley.com/event/council-meeting-15/
LOCATION:Council Offices\, 477 Stone Road\, Renfrew\, Ontario\, K7V 3Z5\, Canada
CATEGORIES:Municipal
END:VEVENT
BEGIN:VEVENT
DTSTART;TZID=America/Toronto:20260408T163000
DTEND;TZID=America/Toronto:20260408T173000
DTSTAMP:20260424T092523
CREATED:20260402T123409Z
LAST-MODIFIED:20260402T123409Z
UID:10000280-1775665800-1775669400@admastonbromley.com
SUMMARY:South Ottawa Valley OPP Detachment Board Meeting
DESCRIPTION:Committee Agendas & Minutes \n \nSouth Ottawa Valley O.P.P Detachment Board  \n8 April\, 2026 \n4:30 PM \nOPP Detachment Board Room \n410 O’Brien Rd\, Renfrew \n 
URL:https://admastonbromley.com/event/south-ottawa-valley-opp-detachment-board-meeting-6/
LOCATION:410 O’Brien Rd\, Renfrew\, 410 O'Brien Road\, Renfrew\, Ontario\, K7V 3Z2\, Canada
CATEGORIES:Municipal
END:VEVENT
BEGIN:VEVENT
DTSTART;TZID=America/Toronto:20260414T190000
DTEND;TZID=America/Toronto:20260414T210000
DTSTAMP:20260424T092523
CREATED:20260323T145719Z
LAST-MODIFIED:20260323T145719Z
UID:10000276-1776193200-1776200400@admastonbromley.com
SUMMARY:Library Board Committee Meeting
DESCRIPTION:Committee Agendas & Minutes
URL:https://admastonbromley.com/event/library-board-committee-meeting-8/
LOCATION:Admaston Bromley Public Library\, 5346 ON-60\, Douglas\, ON\, K0J 1S0\, Canada
CATEGORIES:Municipal
ORGANIZER;CN="Admaston Bromley Public Library":MAILTO:info@admastonbromleylibrary.com
END:VEVENT
END:VCALENDAR