BEGIN:VCALENDAR
VERSION:2.0
PRODID:-//Admaston Bromley - ECPv6.15.20//NONSGML v1.0//EN
CALSCALE:GREGORIAN
METHOD:PUBLISH
X-ORIGINAL-URL:https://admastonbromley.com
X-WR-CALDESC:Events for Admaston Bromley
REFRESH-INTERVAL;VALUE=DURATION:PT1H
X-Robots-Tag:noindex
X-PUBLISHED-TTL:PT1H
BEGIN:VTIMEZONE
TZID:America/Toronto
BEGIN:DAYLIGHT
TZOFFSETFROM:-0500
TZOFFSETTO:-0400
TZNAME:EDT
DTSTART:20240310T070000
END:DAYLIGHT
BEGIN:STANDARD
TZOFFSETFROM:-0400
TZOFFSETTO:-0500
TZNAME:EST
DTSTART:20241103T060000
END:STANDARD
BEGIN:DAYLIGHT
TZOFFSETFROM:-0500
TZOFFSETTO:-0400
TZNAME:EDT
DTSTART:20250309T070000
END:DAYLIGHT
BEGIN:STANDARD
TZOFFSETFROM:-0400
TZOFFSETTO:-0500
TZNAME:EST
DTSTART:20251102T060000
END:STANDARD
BEGIN:DAYLIGHT
TZOFFSETFROM:-0500
TZOFFSETTO:-0400
TZNAME:EDT
DTSTART:20260308T070000
END:DAYLIGHT
BEGIN:STANDARD
TZOFFSETFROM:-0400
TZOFFSETTO:-0500
TZNAME:EST
DTSTART:20261101T060000
END:STANDARD
END:VTIMEZONE
BEGIN:VEVENT
DTSTART;TZID=America/Toronto:20250904T170000
DTEND;TZID=America/Toronto:20250904T183000
DTSTAMP:20260424T031523
CREATED:20250829T182258Z
LAST-MODIFIED:20250829T182304Z
UID:10000181-1757005200-1757010600@admastonbromley.com
SUMMARY:Finance & Administrative Committee Meeting
DESCRIPTION:Committee Agendas & Minutes
URL:https://admastonbromley.com/event/finance-administrative-committee-meeting/
LOCATION:Council Offices\, 477 Stone Road\, Renfrew\, Ontario\, K7V 3Z5\, Canada
CATEGORIES:Municipal
END:VEVENT
BEGIN:VEVENT
DTSTART;TZID=America/Toronto:20250904T190000
DTEND;TZID=America/Toronto:20250904T191500
DTSTAMP:20260424T031523
CREATED:20250829T182359Z
LAST-MODIFIED:20250829T182359Z
UID:10000182-1757012400-1757013300@admastonbromley.com
SUMMARY:Public Meeting
DESCRIPTION:View council agendas and minutes
URL:https://admastonbromley.com/event/public-meeting/
LOCATION:Council Offices\, 477 Stone Road\, Renfrew\, Ontario\, K7V 3Z5\, Canada
CATEGORIES:Municipal
END:VEVENT
BEGIN:VEVENT
DTSTART;TZID=America/Toronto:20250904T193000
DTEND;TZID=America/Toronto:20250904T213000
DTSTAMP:20260424T031523
CREATED:20250805T190643Z
LAST-MODIFIED:20250805T190643Z
UID:10000168-1757014200-1757021400@admastonbromley.com
SUMMARY:Council Meeting
DESCRIPTION:View council agendas and minutes
URL:https://admastonbromley.com/event/council-meeting-2/
LOCATION:Council Offices\, 477 Stone Road\, Renfrew\, Ontario\, K7V 3Z5\, Canada
CATEGORIES:Municipal
END:VEVENT
BEGIN:VEVENT
DTSTART;TZID=America/Toronto:20250910T140000
DTEND;TZID=America/Toronto:20250910T150000
DTSTAMP:20260424T031523
CREATED:20250827T155828Z
LAST-MODIFIED:20250827T155828Z
UID:10000180-1757512800-1757516400@admastonbromley.com
SUMMARY:Committee of Adjustment Meeting
DESCRIPTION:
URL:https://admastonbromley.com/event/committee-of-adjustment-meeting/
LOCATION:Council Offices\, 477 Stone Road\, Renfrew\, Ontario\, K7V 3Z5\, Canada
CATEGORIES:Municipal
END:VEVENT
BEGIN:VEVENT
DTSTART;TZID=America/Toronto:20250916T190000
DTEND;TZID=America/Toronto:20250916T210000
DTSTAMP:20260424T031523
CREATED:20250916T171036Z
LAST-MODIFIED:20250916T171036Z
UID:10000188-1758049200-1758056400@admastonbromley.com
SUMMARY:Library Board Committee Meeting
DESCRIPTION:Committee Agendas & Minutes
URL:https://admastonbromley.com/event/library-board-committee-meeting/
LOCATION:Council Offices\, 477 Stone Road\, Renfrew\, Ontario\, K7V 3Z5\, Canada
CATEGORIES:Municipal
ORGANIZER;CN="Admaston Bromley Public Library":MAILTO:info@admastonbromleylibrary.com
END:VEVENT
BEGIN:VEVENT
DTSTART;TZID=America/Toronto:20250918T193000
DTEND;TZID=America/Toronto:20250918T213000
DTSTAMP:20260424T031523
CREATED:20250805T190707Z
LAST-MODIFIED:20250805T190714Z
UID:10000169-1758223800-1758231000@admastonbromley.com
SUMMARY:Council Meeting
DESCRIPTION:View council agendas and minutes
URL:https://admastonbromley.com/event/council-meeting-3/
LOCATION:Council Offices\, 477 Stone Road\, Renfrew\, Ontario\, K7V 3Z5\, Canada
CATEGORIES:Municipal
END:VEVENT
BEGIN:VEVENT
DTSTART;TZID=America/Toronto:20250922T143000
DTEND;TZID=America/Toronto:20250922T160000
DTSTAMP:20260424T031523
CREATED:20250911T172758Z
LAST-MODIFIED:20250919T135837Z
UID:10000186-1758551400-1758556800@admastonbromley.com
SUMMARY:Finance & Administrative Committee Meeting
DESCRIPTION:Committee Agendas & Minutes
URL:https://admastonbromley.com/event/finance-administrative-committee-meeting-2/
LOCATION:Council Offices\, 477 Stone Road\, Renfrew\, Ontario\, K7V 3Z5\, Canada
CATEGORIES:Municipal
END:VEVENT
BEGIN:VEVENT
DTSTART;TZID=America/Toronto:20250922T160000
DTEND;TZID=America/Toronto:20250922T173000
DTSTAMP:20260424T031523
CREATED:20250919T135911Z
LAST-MODIFIED:20250919T135911Z
UID:10000190-1758556800-1758562200@admastonbromley.com
SUMMARY:Protective Services Committee Meeting
DESCRIPTION:Committee Agendas & Minutes
URL:https://admastonbromley.com/event/protective-services-committee-meeting-2/
LOCATION:Council Offices\, 477 Stone Road\, Renfrew\, Ontario\, K7V 3Z5\, Canada
CATEGORIES:Municipal
END:VEVENT
END:VCALENDAR