BEGIN:VCALENDAR
VERSION:2.0
PRODID:-//Admaston Bromley - ECPv6.15.20//NONSGML v1.0//EN
CALSCALE:GREGORIAN
METHOD:PUBLISH
X-ORIGINAL-URL:https://admastonbromley.com
X-WR-CALDESC:Events for Admaston Bromley
REFRESH-INTERVAL;VALUE=DURATION:PT1H
X-Robots-Tag:noindex
X-PUBLISHED-TTL:PT1H
BEGIN:VTIMEZONE
TZID:America/Toronto
BEGIN:DAYLIGHT
TZOFFSETFROM:-0500
TZOFFSETTO:-0400
TZNAME:EDT
DTSTART:20250309T070000
END:DAYLIGHT
BEGIN:STANDARD
TZOFFSETFROM:-0400
TZOFFSETTO:-0500
TZNAME:EST
DTSTART:20251102T060000
END:STANDARD
BEGIN:DAYLIGHT
TZOFFSETFROM:-0500
TZOFFSETTO:-0400
TZNAME:EDT
DTSTART:20260308T070000
END:DAYLIGHT
BEGIN:STANDARD
TZOFFSETFROM:-0400
TZOFFSETTO:-0500
TZNAME:EST
DTSTART:20261101T060000
END:STANDARD
BEGIN:DAYLIGHT
TZOFFSETFROM:-0500
TZOFFSETTO:-0400
TZNAME:EDT
DTSTART:20270314T070000
END:DAYLIGHT
BEGIN:STANDARD
TZOFFSETFROM:-0400
TZOFFSETTO:-0500
TZNAME:EST
DTSTART:20271107T060000
END:STANDARD
END:VTIMEZONE
BEGIN:VEVENT
DTSTART;TZID=America/Toronto:20260408T163000
DTEND;TZID=America/Toronto:20260408T173000
DTSTAMP:20260421T200742
CREATED:20260402T123409Z
LAST-MODIFIED:20260402T123409Z
UID:10000280-1775665800-1775669400@admastonbromley.com
SUMMARY:South Ottawa Valley OPP Detachment Board Meeting
DESCRIPTION:Committee Agendas & Minutes \n \nSouth Ottawa Valley O.P.P Detachment Board  \n8 April\, 2026 \n4:30 PM \nOPP Detachment Board Room \n410 O’Brien Rd\, Renfrew \n 
URL:https://admastonbromley.com/event/south-ottawa-valley-opp-detachment-board-meeting-6/
LOCATION:410 O’Brien Rd\, Renfrew\, 410 O'Brien Road\, Renfrew\, Ontario\, K7V 3Z2\, Canada
CATEGORIES:Municipal
END:VEVENT
END:VCALENDAR